BEGIN:VCALENDAR
VERSION:2.0
PRODID:-//wp-events-plugin.com//7.2.3.1//EN
BEGIN:VEVENT
UID:187@cn-aixlesbains-riviera.fr
DTSTART;TZID=Europe/Paris;VALUE=DATE:20250322
DTEND;TZID=Europe/Paris;VALUE=DATE:20250324
DTSTAMP:20250304T204231Z
URL:https://cn-aixlesbains-riviera.fr/evenements/natation-ffh-montpellier-
 inter-regional-qualif-france/
SUMMARY:Natation -  FFH Montpellier inter regional qualif France
DESCRIPTION:FFH Montpellier inter régional qualif France - Handisport
ATTACH;FMTTYPE=image/jpeg:https://cn-aixlesbains-riviera.fr/wp-content/upl
 oads/2023/06/natationsportive.png
CATEGORIES:Natation course
END:VEVENT
BEGIN:VTIMEZONE
TZID:Europe/Paris
X-LIC-LOCATION:Europe/Paris
BEGIN:STANDARD
DTSTART:20241027T020000
TZOFFSETFROM:+0200
TZOFFSETTO:+0100
TZNAME:CET
END:STANDARD
END:VTIMEZONE
END:VCALENDAR